BEGIN:VCALENDAR
VERSION:2.0
PRODID:-//ChamberMaster//Event Calendar 2.0//EN
METHOD:PUBLISH
X-PUBLISHED-TTL:P1H
REFRESH-INTERVAL:P1H
CALSCALE:GREGORIAN
BEGIN:VTIMEZONE
TZID:America/New_York
BEGIN:DAYLIGHT
RRULE:FREQ=YEARLY;BYMONTH=3;BYDAY=2SU
DTSTART:20070101T000000
TZOFFSETFROM:-0500
TZOFFSETTO:-0400
TZNAME:Eastern Daylight Time
END:DAYLIGHT
BEGIN:STANDARD
RRULE:FREQ=YEARLY;BYMONTH=11;BYDAY=1SU
DTSTART:20070101T000000
TZOFFSETFROM:-0400
TZOFFSETTO:-0500
TZNAME:Eastern Standard Time
END:STANDARD
END:VTIMEZONE
BEGIN:VEVENT
DTSTART;TZID=America/New_York:20260515T090000
DTEND;TZID=America/New_York:20260517T170000
X-MICROSOFT-CDO-ALLDAYEVENT:FALSE
SUMMARY:Restorative Justice Circle Training with Kay Pranis 3-day (In-Person) hosted by Hidden Water Inc
DESCRIPTION:Hosted by Hidden Water\, IncRestorative Justice Circle Training with Kay PranisThis training is an experiential training\, teaching the basic components of Circle Keeping while having an experience of being in circle.  We cover both community building and building safety in a circle\, basic processes and prompts.  By the end of this training\, each student should be ready to hold a simple circle on their own in a safe setting.The Peacemaking Circle is used to build community\, promote healing and transform conflict both as a prevention practice and an intervention practice when relationships are disrupted.  This training will introduce participants to the peacemaking circle process and explore:foundational values and philosophy of peacemaking circles\,creating safe\, respectful space for dialog\,structure of the circle process\,facilitation of the circle process\,practical applications of circle process\,problems and challenges in circles\,consensus decision making\,cultural transformation through the use of circles.This training goes deep and while this training is designed for both Hidden Water Keepers in-training and participants coming to learn for their own personal or professional reasons\, topics of child sexual abuse or other traumas may come up.Register: https://secure.qgiv.com/for/umsewe/event/resjuscirtrawitkapramay26/
X-ALT-DESC;FMTTYPE=text/html:<!DOCTYPE html><html><head><title></title></head><body aria-disabled="false" spellcheck="false"><p><meta charset="utf-8"></p><p>Hosted by Hidden Water\, Inc</p><p>Restorative Justice Circle Training with Kay Pranis</p><p>This training is an experiential training\, teaching the basic components of Circle Keeping while having an experience of being in circle. &nbsp\;We cover both community building and building safety in a circle\, basic processes and prompts. &nbsp\;By the end of this training\, each student should be ready to hold a simple circle on their own in a safe setting.</p><p>The Peacemaking Circle is used to build community\, promote healing and transform conflict both as a prevention practice and an intervention practice when relationships are disrupted. &nbsp\;</p><p>This training will introduce participants to the peacemaking circle process and explore:</p><ul fr-original-style="" style="list-style-position: inside\;"><li>foundational values and philosophy of peacemaking circles\,</li><li>creating safe\, respectful space for dialog\,</li><li>structure of the circle process\,</li><li>facilitation of the circle process\,</li><li>practical applications of circle process\,</li><li>problems and challenges in circles\,</li><li>consensus decision making\,</li><li>cultural transformation through the use of circles.</li></ul><p>This training goes deep and while this training is designed for both Hidden Water Keepers in-training and participants coming to learn for their own personal or professional reasons\, topics of child sexual abuse or other traumas may come up.</p><p>Register: <a fr-original-style="" href="https://secure.qgiv.com/for/umsewe/event/resjuscirtrawitkapramay26/" rel="noopener noreferrer" style="user-select: auto\;" target="_blank">https://secure.qgiv.com/for/umsewe/event/resjuscirtrawitkapramay26/</a></p></body></html>
LOCATION:Brooklyn NY 11218
UID:e.3369.1442170
SEQUENCE:3
DTSTAMP:20260419T123842Z
URL:https://members.nacrj.org/event-calendar/Details/restorative-justice-circle-training-with-kay-pranis-3-day-in-person-hosted-by-hidden-water-inc-1708024?sourceTypeId=Hub
END:VEVENT
END:VCALENDAR
