BEGIN:VCALENDAR
VERSION:2.0
PRODID:-//ChamberMaster//Event Calendar 2.0//EN
METHOD:PUBLISH
X-PUBLISHED-TTL:P1H
REFRESH-INTERVAL:P1H
CALSCALE:GREGORIAN
BEGIN:VTIMEZONE
TZID:America/Chicago
BEGIN:DAYLIGHT
RRULE:FREQ=YEARLY;BYMONTH=3;BYDAY=2SU
DTSTART:20070101T000000
TZOFFSETFROM:-0600
TZOFFSETTO:-0500
TZNAME:Central Daylight Time
END:DAYLIGHT
BEGIN:STANDARD
RRULE:FREQ=YEARLY;BYMONTH=11;BYDAY=1SU
DTSTART:20070101T000000
TZOFFSETFROM:-0500
TZOFFSETTO:-0600
TZNAME:Central Standard Time
END:STANDARD
END:VTIMEZONE
BEGIN:VEVENT
DTSTART;TZID=America/Chicago:20260623T080000
DTEND;TZID=America/Chicago:20260624T110000
X-MICROSOFT-CDO-ALLDAYEVENT:FALSE
SUMMARY:Virtual Tier 1 Training: An introduction to Restorative Practices in Schools hosted by The Kansas Institute for Peace and Conflict Resolution (2-day)
DESCRIPTION:Hosted by The Kansas Institute for Peace and Conflict Resolution at Bethel CollegeThis two-day virtual workshop will provide an overview and introduction to the application of restorative justice values in educational settings. In this interactive training you will learn: Foundational values and practices of Restorative Justice across diverse school applications\, best practices in implementation for successful and sustainable restorative school initiatives\, basics of circle processes- the most widely used practices in restorative schools\, Research on the impact of restorative approaches in schools and practical ways to implement restorative practices (RP) in your own classroom.To learn more and register\, please click here. Informational flyer\, available here.
X-ALT-DESC;FMTTYPE=text/html:<!DOCTYPE html><html><head><title></title></head><body aria-disabled="false"><p>Hosted by The Kansas Institute for Peace and Conflict Resolution at Bethel College</p><p>This two-day virtual workshop will provide an overview and introduction to the application of restorative justice values in educational settings. In this interactive training you will learn: Foundational values and practices of Restorative Justice across diverse school applications\, best practices in implementation for successful and sustainable restorative school initiatives\, basics of circle processes- the most widely used practices in restorative schools\, Research on the impact of restorative approaches in schools and practical ways to implement restorative practices (RP) in your own classroom.</p><p>To learn more and register\, <a fr-original-style="" href="https://kipcor.org/" rel="noopener noreferrer" style="user-select: auto\;" target="_blank">please click here</a>. Informational flyer\, <a fr-original-style="" href="https://drive.google.com/file/d/10TNTcVT90Ts-gGPPskSIbnZyaAeIP_oI/view" rel="noopener noreferrer" style="user-select: auto\;" target="_blank">available here.</a>&nbsp\;</p></body></html>
LOCATION:2515 College Ave. P.O.Box 276 Newton KS 67117
UID:e.3369.1440828
SEQUENCE:3
DTSTAMP:20260419T123850Z
URL:https://members.nacrj.org/event-calendar/Details/virtual-tier-1-training-an-introduction-to-restorative-practices-in-schools-hosted-by-the-kansas-institute-for-peace-and-conflict-resolution-2-day-1706030?sourceTypeId=Hub
END:VEVENT
END:VCALENDAR
