BEGIN:VCALENDAR
VERSION:2.0
PRODID:-//ChamberMaster//Event Calendar 2.0//EN
METHOD:PUBLISH
X-PUBLISHED-TTL:P1H
REFRESH-INTERVAL:P1H
CALSCALE:GREGORIAN
BEGIN:VTIMEZONE
TZID:America/Chicago
BEGIN:DAYLIGHT
RRULE:FREQ=YEARLY;BYMONTH=3;BYDAY=2SU
DTSTART:20070101T000000
TZOFFSETFROM:-0600
TZOFFSETTO:-0500
TZNAME:Central Daylight Time
END:DAYLIGHT
BEGIN:STANDARD
RRULE:FREQ=YEARLY;BYMONTH=11;BYDAY=1SU
DTSTART:20070101T000000
TZOFFSETFROM:-0500
TZOFFSETTO:-0600
TZNAME:Central Standard Time
END:STANDARD
END:VTIMEZONE
BEGIN:VEVENT
DTSTART;TZID=America/Chicago:20260803T080000
DTEND;TZID=America/Chicago:20260806T120000
X-MICROSOFT-CDO-ALLDAYEVENT:FALSE
SUMMARY:Virtual Tier 2/3 Training: Advanced Restorative Practices: Beyond Tier 1- Repairing Harm in Schools Hosted by The Kansas Institute for Peace and Conflict Resolution (3-day)
DESCRIPTION:Hosted by The Kansas Institute for Peace and Conflict Resolution at Bethel CollegeThis advanced 3-day virtual workshop will enable you to successfully implement restorative practices beyond the Tier 1 foundation in response to situations of harm and severe conflict (Tiers 2-3). In this interactive training you will learn about or gain: Applications of restorative practices for when severe harm/conflict damages relationships in a school community Skills to facilitate restorative conferences and harm-repair circles Implementation resources to continuing broadening your school's restorative approaches at Tier 2-3 levels.To learn more and register\, please click here.
X-ALT-DESC;FMTTYPE=text/html:<!DOCTYPE html><html><head><title></title></head><body aria-disabled="false" spellcheck="false"><p>Hosted by The Kansas Institute for Peace and Conflict Resolution at Bethel College</p><p>This advanced 3-day virtual workshop will enable you to successfully implement restorative practices beyond the Tier 1 foundation in response to situations of harm and severe conflict (Tiers 2-3). In this interactive training you will learn about or gain: Applications of restorative practices for when severe harm/conflict damages relationships in a school community Skills to facilitate restorative conferences and harm-repair circles Implementation resources to continuing broadening your school&rsquo\;s restorative approaches at Tier 2-3 levels.</p><p>To learn more and register\, <a fr-original-style="" href="https://kipcor.org/event/tier-2-3-training-advanced-restorative-practices-beyond-tier-1-repairing-harm-in-schools/" rel="noopener noreferrer" style="user-select: auto\;" target="_blank">please click here</a>. &nbsp\;</p></body></html>
LOCATION:
UID:e.3369.1440842
SEQUENCE:3
DTSTAMP:20260419T123849Z
URL:https://members.nacrj.org/event-calendar/Details/virtual-tier-2-3-training-advanced-restorative-practices-beyond-tier-1-repairing-harm-in-schools-hosted-by-the-kansas-institute-for-peace-and-conflict-resolution-3-day-1706044?sourceTypeId=Hub
END:VEVENT
END:VCALENDAR
